BEGIN:VCALENDAR
BEGIN:VEVENT
SUMMARY:QWAM\, Shadow Monster\, Debbie Dopamine [nycnoise]
DTSTART:20250806T230000Z
DTEND:20250807T000000Z
UID:994e41a3-47b1-43db-b549-8beaf5a027c8
CREATED:20260420T145540Z
DESCRIPTION:
LOCATION:night club 101 (101 avenue a\, manhattan)
END:VEVENT
END:VCALENDAR
