BEGIN:VCALENDAR
BEGIN:VEVENT
SUMMARY:Postponed\, cuz: WE'RE BOYCOTTING THE NOGUCHI MUSEUM [nycnoise]
DTSTART:20250810T190000Z
DTEND:20250810T200000Z
UID:a0fe53f9-40f7-4f74-a393-3944427517c2
CREATED:20260420T145418Z
DESCRIPTION:🇵🇸 TL\;DR:&nbsp\;BOYCOTT + SIGN DEMANDS LETTER + EMAIL o
 r TAG @bangonacan &amp\; let them know! (here's my email)&nbsp\;// you've 
 likely heard that&nbsp\;the noguchi museum fired employees for wearing kef
 fiyehs\; the workers unionized &amp\;&nbsp\;there have been piles of&nbsp\
 ;protests &amp\; museum actions\, but the directors &amp\; board of truste
 es have failed to meet community demands. //&nbsp\;years of allegations of
  racism &amp\; a hostile work environment have led to intense turnover\, t
 urmoil\, &amp\; resignations (there's an insta overview &amp\;&nbsp\;detai
 led timeline)\, &amp\; the keffiyeh ban's still in place. // no surprise\,
  the noguchi museum's workers &amp\; community have called for a boycott &
 ndash\;&ndash\; but bang on a can are trying to go forward with their seri
 es anyway. so far all the artists have asked to postpone the events\, but 
 no music org should ask artists to cross picket lines!&nbsp\;support @nogu
 chirights\, &amp\; ask @bangonacan to postpone or move their noguchi serie
 s!
LOCATION:noguchi museum (9-01 33rd road (at vernon blvd)\, long island cit
 y)
END:VEVENT
END:VCALENDAR
