BEGIN:VCALENDAR
BEGIN:VEVENT
SUMMARY:Dog\, Ashcan Orchestra\, Pleaser [nycnoise]
DTSTART:20250814T233000Z
DTEND:20250815T003000Z
UID:20e8d43b-b753-4f10-9b12-baeccabd798e
CREATED:20260420T145244Z
DESCRIPTION:shoutout to the Visiting Youths who said they used nyc noise t
 o find the show!! (i didn't find u but i was also there &amp\; ppl told me
  u mentioned it aww 🥰) 🅙
LOCATION:danger danger (232 Knickerbocker Ave\, Brooklyn\, NY 11237)
END:VEVENT
END:VCALENDAR
