BEGIN:VCALENDAR
BEGIN:VEVENT
SUMMARY:Torture & the Desert Spiders Residency [nycnoise]
DTSTART:20250805T233000Z
DTEND:20250806T003000Z
UID:b2b95780-439e-4dcf-9db2-7b52c942e365
CREATED:20260420T145156Z
DESCRIPTION:
LOCATION:baker falls (192 Allen St\, New York\, NY 10002)
END:VEVENT
END:VCALENDAR
