BEGIN:VCALENDAR
BEGIN:VEVENT
SUMMARY:Torture & the Desert Spiders Residency [nycnoise]
DTSTART:20250812T233000Z
DTEND:20250813T003000Z
UID:77876302-b30a-4d12-add6-80e2c7059ecf
CREATED:20260420T145242Z
DESCRIPTION:
LOCATION:baker falls (192 Allen St\, New York\, NY 10002)
END:VEVENT
END:VCALENDAR
