BEGIN:VCALENDAR
BEGIN:VEVENT
SUMMARY:Torture & the Desert Spiders Residency [nycnoise]
DTSTART:20250819T233000Z
DTEND:20250820T003000Z
UID:0b60d7f4-612f-405d-ba72-67a9a6effbda
CREATED:20260420T145345Z
DESCRIPTION:
LOCATION:baker falls (192 Allen St\, New York\, NY 10002)
END:VEVENT
END:VCALENDAR
