BEGIN:VCALENDAR
BEGIN:VEVENT
SUMMARY:Torture & the Desert Spiders Residency [nycnoise]
DTSTART:20250826T233000Z
DTEND:20250827T003000Z
UID:39e2e77f-96bf-4087-9ff4-1361b9a301e1
CREATED:20260420T145504Z
DESCRIPTION:
LOCATION:baker falls (192 Allen St\, New York\, NY 10002)
END:VEVENT
END:VCALENDAR
