BEGIN:VCALENDAR
BEGIN:VEVENT
SUMMARY:Ridgewood Jazz Fest Presents: Russell Gunn / Zacchae'us Paul / Tiv
 on Pennicott / Michael Feinberg [nycnoise]
DTSTART:20250828T220000Z
DTEND:20250828T230000Z
UID:2e42ac32-2340-43ac-b405-2dc39e62033d
CREATED:20260420T145159Z
DESCRIPTION:
LOCATION:trans-pecos (9-15 wyckoff ave\, ridgewood)
END:VEVENT
END:VCALENDAR
