BEGIN:VCALENDAR
BEGIN:VEVENT
SUMMARY:Trace Amount\, Predation\, Y.S.A. Moreno\, Errant Wisdom [nycnoise
 ]
DTSTART:20250809T230000Z
DTEND:20250810T000000Z
UID:f6c9fd47-b4fd-4f87-925d-f154e510e3ae
CREATED:20260420T145331Z
DESCRIPTION:
LOCATION:trans-pecos (9-15 wyckoff ave\, ridgewood)
END:VEVENT
END:VCALENDAR
