BEGIN:VCALENDAR
BEGIN:VEVENT
SUMMARY:Crab\, ÅNGEL 004\, Alphabet City [nycnoise]
DTSTART:20250804T000000Z
DTEND:20250804T010000Z
UID:5b524de7-00bc-4f97-8737-4efb1e6f1fed
CREATED:20260420T145206Z
DESCRIPTION:🇵🇸 PACBI
LOCATION:purgatory (675 central ave\, brooklyn)
END:VEVENT
END:VCALENDAR
