BEGIN:VCALENDAR
BEGIN:VEVENT
SUMMARY:James Carney\, Ember (Caleb Wheeler Curtis\, Noah Garabedian\, Vin
 nie Sperrazza) [nycnoise]
DTSTART:20250808T000000Z
DTEND:20250808T010000Z
UID:56ca0745-a623-491a-b270-c961dec65fea
CREATED:20260420T145322Z
DESCRIPTION:7:30pm doors
LOCATION:owl (497 rogers ave\, brooklyn)
END:VEVENT
END:VCALENDAR
