BEGIN:VCALENDAR
BEGIN:VEVENT
SUMMARY:Souvenir Shop: Hope2\, Pei Up\, DJ Erewhon\, Pressure Assist [nycn
 oise]
DTSTART:20250806T020000Z
DTEND:20250806T030000Z
UID:e6429127-4a04-40ba-b869-e686ae1f39b9
CREATED:20260420T145410Z
DESCRIPTION:🇵🇸 PACBI
LOCATION:bossa nova civic club (1271 myrtle ave\, brooklyn)
END:VEVENT
END:VCALENDAR
