BEGIN:VCALENDAR
BEGIN:VEVENT
SUMMARY:JAMAICAN INDEPENDENCE DAY: BEARCAT\, Shyboi\, DIME [nycnoise]
DTSTART:20250807T020000Z
DTEND:20250807T030000Z
UID:514d13da-906f-4069-8797-22f014199a87
CREATED:20260420T145552Z
DESCRIPTION:🇵🇸 PACBI
LOCATION:bossa nova civic club (1271 myrtle ave\, brooklyn)
END:VEVENT
END:VCALENDAR
