BEGIN:VCALENDAR
BEGIN:VEVENT
SUMMARY:Synthicide: Semantix\, Static Ghost\, virtue_signal\, Andi [nycnoi
 se]
DTSTART:20250808T020000Z
DTEND:20250808T030000Z
UID:9306ac4a-8f9f-4908-877b-76e29c7fea12
CREATED:20260420T145546Z
DESCRIPTION:🇵🇸 PACBI
LOCATION:bossa nova civic club (1271 myrtle ave\, brooklyn)
END:VEVENT
END:VCALENDAR
