BEGIN:VCALENDAR
BEGIN:VEVENT
SUMMARY:The Art Gray Noizz Quintet\, Weegee\, Billy Plastered\, Savini Pso
 as [nycnoise]
DTSTART:20250814T230000Z
DTEND:20250815T000000Z
UID:af0158a2-ef1a-4fca-bfc0-878fd9631c8c
CREATED:20260420T145337Z
DESCRIPTION:
LOCATION:tv eye (1647 Weirfield St\, Ridgewood\, NY 11385)
END:VEVENT
END:VCALENDAR
