BEGIN:VCALENDAR
BEGIN:VEVENT
SUMMARY:Cyberfolk Music: Folkware & Jake Cascade [nycnoise]
DTSTART:20250805T020000Z
DTEND:20250805T030000Z
UID:bcd0689e-54f5-465b-8f08-b98fb87fe474
CREATED:20260420T145242Z
DESCRIPTION:
LOCATION:pete's candy store (709 lorimer st.\, brooklyn)
END:VEVENT
END:VCALENDAR
