BEGIN:VCALENDAR
BEGIN:VEVENT
SUMMARY:Weinberg Residency: Conical Intersect (Sam Weinberg\, Kevin Sun\, 
 Jason Nazary\, Henry Fraser)\, Alex Goldfarb New Quartet [nycnoise]
DTSTART:20250806T000000Z
DTEND:20250806T010000Z
UID:1d8f1bbb-6877-49e7-906b-13f5d9559b94
CREATED:20260420T145343Z
DESCRIPTION:🇵🇸 PACBI +++ AGNQ ft. Philip Golub\, Mathias Jensen\, St
 even Crammer
LOCATION:sisters (900 fulton st.\, brooklyn)
END:VEVENT
END:VCALENDAR
