BEGIN:VCALENDAR
BEGIN:VEVENT
SUMMARY:Intertwined (Sujae Jung w/ Wolf Robert Stratmann\, Ned Rothenberg\
 , Satoshi Takeishi) [nycnoise]
DTSTART:20251015T000000Z
DTEND:20251015T010000Z
UID:7255a128-0d35-44ce-ba9c-38ec76e66060
CREATED:20260420T145332Z
DESCRIPTION:
LOCATION:ibeam (168 7th st.\, brooklyn)
END:VEVENT
END:VCALENDAR
