BEGIN:VCALENDAR
BEGIN:VEVENT
SUMMARY:The Sound of Ourselves: Surya Botofasina & A Space for Sound [nycn
 oise]
DTSTART:20250809T180000Z
DTEND:20250809T190000Z
UID:02a42752-71d8-436e-b7d1-edfefbf57ff4
CREATED:20260420T145558Z
DESCRIPTION:"bring your blankets\, mats\, chairs\, etc."
LOCATION:vale of cashmere / 3 circles
END:VEVENT
END:VCALENDAR
