BEGIN:VCALENDAR
BEGIN:VEVENT
SUMMARY:Jessica Risker (LP release)\, Will Stratton\, Gabriel Birnbaum [ny
 cnoise]
DTSTART:20250814T233000Z
DTEND:20250815T003000Z
UID:b099620e-c75d-4164-bf7f-08311c6a06a2
CREATED:20260420T145158Z
DESCRIPTION:
LOCATION:cassette (68-38 forest ave bsmt\, ridgewood)
END:VEVENT
END:VCALENDAR
