BEGIN:VCALENDAR
BEGIN:VEVENT
SUMMARY:Nate Wooley / Sylvie Courvoisier / Chris Corsano [nycnoise]
DTSTART:20250825T233000Z
DTEND:20250826T003000Z
UID:f4b11af7-22a0-4fc2-9a31-2fc0d3dc6f2f
CREATED:20260420T145212Z
DESCRIPTION:7:30pm tix &amp\; 9pm tix
LOCATION:close up jazz (154 Orchard St\, New York\, NY 10002\, United Stat
 es)
END:VEVENT
END:VCALENDAR
