BEGIN:VCALENDAR
BEGIN:VEVENT
SUMMARY:Bellcave: Nick Neuburg & Brittany Karlson\, Ayin Villagra-Brown\, 
 AJ Medeiros [nycnoise]
DTSTART:20250829T230000Z
DTEND:20250830T000000Z
UID:2797c21c-02fa-46c1-b4e5-dcfcf1fa71e9
CREATED:20260420T145351Z
DESCRIPTION:
LOCATION:bellcave
END:VEVENT
END:VCALENDAR
