BEGIN:VCALENDAR
BEGIN:VEVENT
SUMMARY:MV 40th Bday: Mike Videopunk: 'MUSIC FOR 3 VCRS' [Solo A/V Duratio
 nal Performance] [nycnoise]
DTSTART:20250829T035900Z
DTEND:20250829T045900Z
UID:a907a28e-e0fa-4b9a-ab7f-e0f530d0fcbd
CREATED:20260420T145343Z
DESCRIPTION:"THE ARTIST WILL BE PRESENT &amp\; PERFORMING FROM MIDNIGHT ON
  8/29 TO MIDNIGHT ON 8/30  THE PERFORMANCE IS OPEN TO THE PUBLIC\, &amp\
 ; PEOPLE ARE ENCOURAGED TO STOP BY\, REFLECT ON TIME IN THE SPACE\, &amp\;
  CELEBRATE THEIR OWN LIVES STREAMING DETAILS TBA"
LOCATION:millennium film workshop (167 Wilson Ave\, Brooklyn\, NY 11237)
END:VEVENT
END:VCALENDAR
