BEGIN:VCALENDAR
BEGIN:VEVENT
SUMMARY:Cupid's Nemesis\, Snood\, Latest Face [nycnoise]
DTSTART:20250927T003000Z
DTEND:20250927T013000Z
UID:6a42f335-4115-4dd6-8899-01219cc7e149
CREATED:20260420T163136Z
DESCRIPTION:
LOCATION:footlight at windjammer (552 grandview ave\, ridgewood)
END:VEVENT
END:VCALENDAR
