BEGIN:VCALENDAR
BEGIN:VEVENT
SUMMARY:Cult Goddess\, April Gloom\, Prince & the Pauper [nycnoise]
DTSTART:20250824T000000Z
DTEND:20250824T010000Z
UID:fbcb977b-5a81-4748-a926-8e9b855f310c
CREATED:20260420T145552Z
DESCRIPTION:"psych/beat platform"
LOCATION:baker falls (192 Allen St\, New York\, NY 10002)
END:VEVENT
END:VCALENDAR
