BEGIN:VCALENDAR
BEGIN:VEVENT
SUMMARY:Wormhole: James Paul Nadien & Lemuel Marc\, Lucy & the Rizzler\, F
 rancesca H. / Gían Pérez / Orchid McRae [nycnoise]
DTSTART:20250907T230000Z
DTEND:20250908T000000Z
UID:9de7dcd0-5735-40f8-9970-ebcb11eba12d
CREATED:20260420T163342Z
DESCRIPTION:
LOCATION:brothers wash & dry laundromat (5420 nurge ave\, queens)
END:VEVENT
END:VCALENDAR
