BEGIN:VCALENDAR
BEGIN:VEVENT
SUMMARY:MATA: Twaankalu\, Daniro\, EDEN\, Teigh [nycnoise]
DTSTART:20250815T020000Z
DTEND:20250815T030000Z
UID:8e86d758-9743-4939-b6d0-092fd3b84ad9
CREATED:20260420T145144Z
DESCRIPTION:
LOCATION:bossa nova civic club (1271 myrtle ave\, brooklyn)
END:VEVENT
END:VCALENDAR
