BEGIN:VCALENDAR
BEGIN:VEVENT
SUMMARY:EXILE / ANNIVERSARY EXTRAVAGANZA: Chung\, Fabiola\, Rob Seurat [ny
 cnoise]
DTSTART:20250818T020000Z
DTEND:20250818T030000Z
UID:7e77f87f-cfa6-48d9-90e6-299765732ea5
CREATED:20260420T145549Z
DESCRIPTION:
LOCATION:bossa nova civic club (1271 myrtle ave\, brooklyn)
END:VEVENT
END:VCALENDAR
