BEGIN:VCALENDAR
BEGIN:VEVENT
SUMMARY:Synapse: chuki\, Zara Dekho\, Jalpari\, LTE\, Tracey G [nycnoise]
DTSTART:20250826T020000Z
DTEND:20250826T030000Z
UID:86290bd0-f855-4bd3-8df4-e6ca2f4c495d
CREATED:20260420T145206Z
DESCRIPTION:
LOCATION:bossa nova civic club (1271 myrtle ave\, brooklyn)
END:VEVENT
END:VCALENDAR
