BEGIN:VCALENDAR
BEGIN:VEVENT
SUMMARY:2nd Annual Bossa Bday Bash: Nita Aviance\, Matas\, Mui Mui\, DAYTO
 NA 500 (DJ Deadname b2b Eva Loveless) [nycnoise]
DTSTART:20250828T020000Z
DTEND:20250828T030000Z
UID:bb755952-2b92-4026-a610-2301d9d953d9
CREATED:20260420T145505Z
DESCRIPTION:🌀 free before 11pm
LOCATION:bossa nova civic club (1271 myrtle ave\, brooklyn)
END:VEVENT
END:VCALENDAR
