BEGIN:VCALENDAR
BEGIN:VEVENT
SUMMARY:Good Grief / A Sonic Tapestry / All Live: SCRAAATCH (MHYSA & chuki
 )\, A Place to Go\, Miss Olithea [nycnoise]
DTSTART:20250816T230000Z
DTEND:20250817T000000Z
UID:c71c9dda-0a15-4092-ad96-8e771a37d010
CREATED:20260420T145339Z
DESCRIPTION:🌀 notaflof work trade
LOCATION:light & sound design
END:VEVENT
END:VCALENDAR
