BEGIN:VCALENDAR
BEGIN:VEVENT
SUMMARY:Dance Practice with Harmony Honig\, Kō-an (DJ & deep listening) [
 nycnoise]
DTSTART:20250821T000000Z
DTEND:20250821T010000Z
UID:28470199-4df3-4100-8911-ce8897da8fc2
CREATED:20260420T145335Z
DESCRIPTION:🌀 notaflof work trade // "each session begins with a group 
 instruction on mindful movement &amp\; body awareness"
LOCATION:light & sound design
END:VEVENT
END:VCALENDAR
