BEGIN:VCALENDAR
BEGIN:VEVENT
SUMMARY:Jan Woo will Present Sounds [nycnoise]
DTSTART:20250821T230000Z
DTEND:20250822T000000Z
UID:d87cd3ea-09c1-4af1-8594-3f20f6df7545
CREATED:20260420T145332Z
DESCRIPTION:🌀 notaflof work trade
LOCATION:light & sound design
END:VEVENT
END:VCALENDAR
