BEGIN:VCALENDAR
BEGIN:VEVENT
SUMMARY:Free Syria Community Events presents Interconnected Liberation Tea
 ch-In & Afterparty: 8ulentina\, Bahloul & El Arkitekt\, Saphe [nycnoise]
DTSTART:20250905T233000Z
DTEND:20250906T003000Z
UID:3b10b81c-b37a-4deb-9097-4a91808d5403
CREATED:20260420T163343Z
DESCRIPTION:🌀 notaflof work trade\; 7:30pm panel\, 9:30pm-1am party\; "
 panel\, moderated by FSCE&rsquo\;s co-founder Sarah Khalbuss\, will featur
 e a group of voices trusted by the Syrian community in NYC- Loubna Mrie\, 
 Saphe Shamoun\, Dr. Hussam Jefee-Bahloul\, Anne Barnard\, &amp\; Anand Gop
 al."&nbsp\;
LOCATION:light & sound design
END:VEVENT
END:VCALENDAR
