BEGIN:VCALENDAR
BEGIN:VEVENT
SUMMARY:LiveCode.NYC presents Cognitive Dissodance [ALGORAVE] [nycnoise]
DTSTART:20250823T230000Z
DTEND:20250824T000000Z
UID:dca3879b-061a-4e47-9074-f78c6e124b40
CREATED:20260420T145450Z
DESCRIPTION:🇵🇸 PACBI (livecode) +++ "performers will generate audio 
 &amp\; visuals by writing code in front of you"\; performers: Master Fader
 \, rwhaling &amp\; JPEGSTRIPES\, Cougars Are Cats Too &amp\; emptyflash\, 
 Varsity Star\, Reckoner &amp\; eeeeaaii\, Phagocyte &amp\; &amp\;RU\, MrSy
 nAckster &amp\; ~ Vampire Exec
LOCATION:wonderville (1186 broadway\, brooklyn)
END:VEVENT
END:VCALENDAR
