BEGIN:VCALENDAR
BEGIN:VEVENT
SUMMARY:NYC Anarchist Book Fair Music Festival: Catharsis\, FM/BL\, Selend
 is Sebastian Alexander Johnson\, Kelvin Daly & Breadpussy\, Goldy Head [ny
 cnoise]
DTSTART:20250912T210000Z
DTEND:20250912T220000Z
UID:1a784f3b-315b-46eb-9444-843248ef335b
CREATED:20260420T163505Z
DESCRIPTION:
LOCATION:p.i.t. (property is theft) (411 s. 5th st.\, brooklyn)
END:VEVENT
END:VCALENDAR
