BEGIN:VCALENDAR
BEGIN:VEVENT
SUMMARY:Uniting Entity: .cutspace\, $quib\, Multiple People\, Talullah Cal
 derwood [nycnoise]
DTSTART:20250909T000000Z
DTEND:20250909T010000Z
UID:0bf74176-9994-4207-8fe0-44d266f81ec9
CREATED:20260420T163250Z
DESCRIPTION:
LOCATION:purgatory (675 central ave\, brooklyn)
END:VEVENT
END:VCALENDAR
