BEGIN:VCALENDAR
BEGIN:VEVENT
SUMMARY:Sandy Oklahombre\, Bloodmonks\, 3rd Floor Ghost\, Frank Burzinski 
 [nycnoise]
DTSTART:20250826T183000Z
DTEND:20250826T193000Z
UID:a406b5d6-f87f-48dd-b9a5-e42f4c404c73
CREATED:20260420T145146Z
DESCRIPTION:
LOCATION:wonderville (1186 broadway\, brooklyn)
END:VEVENT
END:VCALENDAR
