BEGIN:VCALENDAR
BEGIN:VEVENT
SUMMARY:Olive Grove Initiative presents Spread Love for Gaza: Eithermore\,
  Si.Doux\, Henry Ryeder\, Calista Garcia [nycnoise]
DTSTART:20250901T000000Z
DTEND:20250901T010000Z
UID:7de3a5c5-9e98-4781-b489-b09974226cf9
CREATED:20260420T145333Z
DESCRIPTION:🇵🇸 "NYC-based mutual aid group raising funds for familie
 s from Gaza"
LOCATION:wonderville (1186 broadway\, brooklyn)
END:VEVENT
END:VCALENDAR
