BEGIN:VCALENDAR
BEGIN:VEVENT
SUMMARY:gaucimusic presents: Thomas Milovac\, Stephen Gauci / James McKain
  / Anna Abondolo / Kevin Shea\, Haruna Fukazawa / Stan Zenkov / Shu Odamur
 a [nycnoise]
DTSTART:20250823T223000Z
DTEND:20250823T233000Z
UID:e1b7fd69-7eda-4fb1-a2b6-bba9425623e8
CREATED:20260420T145324Z
DESCRIPTION:
LOCATION:downtown music gallery (13 monroe st.\, manhattan)
END:VEVENT
END:VCALENDAR
