BEGIN:VCALENDAR
BEGIN:VEVENT
SUMMARY:Holman Álvarez & Brandon López [nycnoise]
DTSTART:20250901T000000Z
DTEND:20250901T010000Z
UID:291978f9-0c66-4690-8ae3-281677aebdeb
CREATED:20260420T145420Z
DESCRIPTION:7:30pm doors
LOCATION:francis kite club (40 loisaida ave\, manhattan)
END:VEVENT
END:VCALENDAR
