BEGIN:VCALENDAR
BEGIN:VEVENT
SUMMARY:Purity Control\, INBIO\, JeWel\, Kwami & David\, bk [nycnoise]
DTSTART:20250820T003000Z
DTEND:20250820T013000Z
UID:69a8a48b-a725-4836-98b9-853bcd8c1aa3
CREATED:20260420T145158Z
DESCRIPTION:david = certain lives\, kwami = kwami
LOCATION:living gallery (1094 broadway\, brooklyn)
END:VEVENT
END:VCALENDAR
