BEGIN:VCALENDAR
BEGIN:VEVENT
SUMMARY:Nocturnal.You\, Doum\, Swordes\, ITG.URL\, Cherubs\, Rachel Tiedem
 ann\, Maria Galebach (Installation) [nycnoise]
DTSTART:20250815T000000Z
DTEND:20250815T010000Z
UID:d82edd28-4c5d-43c7-b107-ecaaebe413be
CREATED:20260420T145357Z
DESCRIPTION:
LOCATION:living gallery (1094 broadway\, brooklyn)
END:VEVENT
END:VCALENDAR
