BEGIN:VCALENDAR
BEGIN:VEVENT
SUMMARY:Sloppy Heads\, Prairiewolf\, Organs Obsolete (Richard Hoffman) DJ 
 Ted Barron [nycnoise]
DTSTART:20250814T230000Z
DTEND:20250815T000000Z
UID:aa504e8b-c8eb-4a5c-ae5c-3d9997e33b77
CREATED:20260420T145415Z
DESCRIPTION:
LOCATION:mama tried (787 3rd ave\, brooklyn)
END:VEVENT
END:VCALENDAR
