BEGIN:VCALENDAR
BEGIN:VEVENT
SUMMARY:Heads Happenings: Sloppy Heads\, Geologist\, Tom Carter & Pat Mura
 no\, James McNew (DJ) [nycnoise]
DTSTART:20250911T230000Z
DTEND:20250912T000000Z
UID:3894628d-346c-4030-82a9-25b4d61c9c9c
CREATED:20260420T163207Z
DESCRIPTION:
LOCATION:mama tried (787 3rd ave\, brooklyn)
END:VEVENT
END:VCALENDAR
