BEGIN:VCALENDAR
BEGIN:VEVENT
SUMMARY:Dot Dash presents: Nape Neck\, Natural Disasters\, OPTO S [nycnois
 e]
DTSTART:20250920T200000Z
DTEND:20250920T210000Z
UID:dcc5b343-28b9-470e-991d-9cf513ff7836
CREATED:20260420T163209Z
DESCRIPTION:
LOCATION:mama tried (787 3rd ave\, brooklyn)
END:VEVENT
END:VCALENDAR
