BEGIN:VCALENDAR
BEGIN:VEVENT
SUMMARY:Henry Fraser & Ka Baird\, Claire Dickson\, Cassandra Croft [nycnoi
 se]
DTSTART:20250928T233000Z
DTEND:20250929T003000Z
UID:f69ca4c7-18e9-4b10-82f8-5edfc6e09f43
CREATED:20260420T163250Z
DESCRIPTION:7pm doors
LOCATION:stone circle at ridgewood presby (59-14 70th ave\, ridgewood)
END:VEVENT
END:VCALENDAR
