BEGIN:VCALENDAR
BEGIN:VEVENT
SUMMARY:Sam Decker Quartet\, Gian Perez & Buz Donald\, Kris Gruda [nycnois
 e]
DTSTART:20250817T233000Z
DTEND:20250818T003000Z
UID:06ae6108-9351-49c8-ac6d-d9d3893597ba
CREATED:20260420T145351Z
DESCRIPTION:
LOCATION:threes brewing (333 douglass st.\, brooklyn)
END:VEVENT
END:VCALENDAR
