BEGIN:VCALENDAR
BEGIN:VEVENT
SUMMARY:Thousands Of Dead Gods Presents: Number of the Beast\, Universal C
 ell Unlock\, No Real Music\, RTSM\, Karol Konstancia\, DJ Jack Callahan [n
 ycnoise]
DTSTART:20250901T233000Z
DTEND:20250902T003000Z
UID:19bfbcc8-cabd-4e66-9700-d89c6849a939
CREATED:20260420T163135Z
DESCRIPTION:
LOCATION:trans-pecos (9-15 wyckoff ave\, ridgewood)
END:VEVENT
END:VCALENDAR
