BEGIN:VCALENDAR
BEGIN:VEVENT
SUMMARY:Receive\, Bad Trips\, Death Drive\, Dirtbag Ivy [nycnoise]
DTSTART:20250911T230000Z
DTEND:20250912T000000Z
UID:0af7c2de-0e82-4e69-b2cf-aca53086b1f5
CREATED:20260420T163136Z
DESCRIPTION:
LOCATION:gold sounds (44 wilson ave\, brooklyn)
END:VEVENT
END:VCALENDAR
